BEGIN:VCALENDAR

VERSION:2.0

PRODID:-//hacksw/handcal//NONSGML v1.0//EN

BEGIN:VEVENT

UID:2848e425cc29d5f44c7f4dbb1172281c

DTSTAMP:20260422T090918Z

DTSTART:20260421T173000

DTEND:20260421T181500

SUMMARY:L40233000 - 32 Omaroo Terrace, CITY BEACH WA 6015

LOCATION:32 Omaroo Terrace, CITY BEACH WA 6015

END:VEVENT

END:VCALENDAR